Workbook

Sheet Постановление
A1: Российская Федерация
A2: Республика Хакасия
A3: Алтайский район
A4: Администрация Новомихайловского сельсовета
A5: ПОСТАНОВЛЕНИЕ
A6: « | B6: 20 | D6: » | E6: сентября | J6: 2019 | M6: год | AU6: № | AW6: 53
T7: с. Новомихайловка
A8: О внесении изменений в муниципальную программу «Благоустройство территории Новомихайловского сельсовета на 2018 – 2022 годы», утвержденную Постановлением Администрации Новомихайловского сельсовета от 27.11.2017 года № 63
A15: В целях комплексного развития территории Новомихайловского сельсовета Алтайского района Республики Хакасия, создания удобной и привлекательной среды села, повышения эффективности использования бюджетных средств и внебюджетных источников финансирования, руководствуясь Федеральным законом от 06.10.2003 года № 131-ФЗ «Об общих принципах местного самоуправления в Российской Федерации», статьей 9 Устава муниципального образования Новомихайловский сельсовета, администрация Новомихайловского сельсовета
A23: ПОСТАНОВЛЯЕТ:
A24: 1. Внести следующие изменения в муниципальную программу «Благоустройство территории Новомихайловского сельсовета на 2018 – 2022 годы», утвержденную Постановлением Администрации Новомихайловского сельсовета от 27.11.2017 года № 63:
D28: 1.1. В паспорте Программы строку «Объемы и источники финансирования Программы» изложить в новой редакции:
A31: Объемы и источники финансирования | AB31: Общий объем финансирования Программы
AB32: составляет | AH32: =SUM(AH59,AF50,AB41) -> 2124.1 | AN32: тыс. рублей. В том
AB33: числе по годам:
AD34: - | AE34: 2018 год | AJ34: - | AK34: =SUM(Приложение!D16,Приложение!I16,Приложение!N16) -> 385.1 | AO34: тыс. рублей;
AD35: - | AE35: 2019 год | AJ35: - | AK35: =SUM(Приложение!E16,Приложение!J16,Приложение!O16) -> 333 | AO35: тыс. рублей;
AD36: - | AE36: 2020 год | AJ36: - | AK36: =SUM(Приложение!F16,Приложение!K16,Приложение!P16) -> 263 | AO36: тыс. рублей;
AD37: - | AE37: 2021 год | AJ37: - | AK37: =SUM(Приложение!G16,Приложение!L16,Приложение!Q16) -> 263 | AO37: тыс. рублей;
AD38: - | AE38: 2022 год | AJ38: - | AK38: =SUM(Приложение!H16,Приложение!M16,Приложение!R16) -> 880 | AO38: тыс. рублей.
AB40: - | AC40: за счет средств бюджета поселения -
AB41: =SUM(AK43:AO47) -> 2074.1 | AG41: тыс. рублей, в том числе по
AB42: годам:
AD43: - | AE43: 2018 год | AJ43: - | AK43: =SUM(Приложение!D16) -> 335.1 | AO43: тыс. рублей;
AD44: - | AE44: 2019 год | AJ44: - | AK44: =SUM(Приложение!E16) -> 333 | AO44: тыс. рублей;
AD45: - | AE45: 2020 год | AJ45: - | AK45: =SUM(Приложение!F16) -> 263 | AO45: тыс. рублей;
AD46: - | AE46: 2021 год | AJ46: - | AK46: =SUM(Приложение!G16) -> 263 | AO46: тыс. рублей;
AD47: - | AE47: 2022 год | AJ47: - | AK47: =SUM(Приложение!H16) -> 880 | AO47: тыс. рублей.
AB49: - | AC49: за счет средств бюджета МО Алтайский
AB50: район - | AF50: =SUM(AK52:AN56) -> 0 | AK50: тыс. рублей, в том числе
AB51: по годам:
AD52: - | AE52: 2018 год | AJ52: - | AK52: =SUM(Приложение!I16) -> 0 | AO52: тыс. рублей;
AD53: - | AE53: 2019 год | AJ53: - | AK53: =SUM(Приложение!J16) -> 0 | AO53: тыс. рублей;
AD54: - | AE54: 2020 год | AJ54: - | AK54: =SUM(Приложение!K16) -> 0 | AO54: тыс. рублей;
AD55: - | AE55: 2021 год | AJ55: - | AK55: =SUM(Приложение!L16) -> 0 | AO55: тыс. рублей;
AD56: - | AE56: 2022 год | AJ56: - | AK56: =SUM(Приложение!M16) -> 0 | AO56: тыс. рублей.
AB58: - | AC58: за счет средств бюджета Республики
AB59: Хакасия | AG59: - | AH59: =SUM(AK61:AN65) -> 50 | AM59: тыс. рублей, в том
AB60: числе по годам:
AD61: - | AE61: 2018 год | AJ61: - | AK61: =SUM(Приложение!N16) -> 50 | AO61: тыс. рублей;
...

Sheet Приложение
H1: Приложение к Постановлению Администрации Новомихайловского сельсовета от «20» сентября 2019 года № 53
A3: 3. Перечень программных мероприятий
A4: Основу финансирования Программы составляют средства бюджета Новомихайловского сельсовета. Объемы финансирования Программы и перечень объектов будут уточняться ежегодно, в пределах финансовых возможностей бюджета Новомихайловского сельсовета на реализацию программы.
A5: № п/п | B5: Наименование мероприятия | C5: Сумма | D5: Источники финансирования
D6: Бюджет поселения | I6: Бюджет Алтайского района | N6: Бюджет Республики Хакасия
D7: 2018 | E7: 2019 | F7: 2020 | G7: 2021 | H7: 2022 | I7: 2 | J7: 2 | K7: 2 | L7: 2 | M7: 2 | N7: 2018 | O7: 2019 | P7: 2020 | Q7: 2021 | R7: 2022
I8: 0 | J8: 0 | K8: 0 | L8: 0 | M8: 0
I9: 1 | J9: 1 | K9: 2 | L9: 2 | M9: 2
I10: 8 | J10: 9 | K10: 0 | L10: 1 | M10: 2
A11: 1 | B11: Уличное освещение | C11: =SUM(D11:R11) -> 1251 | D11: 121 | E11: 190 | F11: 150 | G11: 150 | H11: 640
A12: 2 | B12: Приобретение основных средств, ГСМ, материалов | C12: =SUM(D12:R12) -> 707 | D12: 154 | E12: 131 | F12: 101 | G12: 101 | H12: 220
A13: 3 | B13: Оформление сельского кладбища в собственность | C13: =SUM(D13:R13) -> 23 | D13: 23
A14: 4 | B14: Расходы на прочие мероприятия по благоустройству и улучшению санитарного содержания населенного пункта | C14: =SUM(D14:R14) -> 92.5 | D14: 36.5 | E14: 12 | F14: 12 | G14: 12 | H14: 20
A15: 5 | B15: Выполнение работ по описанию границ населенных пунктов и внесению сведений в ЕГРН | C15: =SUM(D15:R15) -> 50.6 | D15: 0.6 | N15: 50
A16: ИТОГО: | C16: =SUM(D16:R16) -> 2124.1 | D16: =SUM(D11:D15) -> 335.1 | E16: =SUM(E11:E15) -> 333 | F16: =SUM(F11:F15) -> 263 | G16: =SUM(G11:G15) -> 263 | H16: =SUM(H11:H15) -> 880 | I16: =SUM(I11:I15) -> 0 | J16: =SUM(J11:J15) -> 0 | K16: =SUM(K11:K15) -> 0 | ... R16: =SUM(R11:R15) -> 0
