Workbook

Sheet Постановление
A1: Российская Федерация
A2: Республика Хакасия
A3: Алтайский район
A4: Администрация Новомихайловского сельсовета
A6: ПОСТАНОВЛЕНИЕ
A8: « | B8: 28 | D8: » | E8: июня | J8: 2024 | M8: год | AU8: № | AW8: 57
T10: с. Новомихайловка
A12: О внесении изменений в муниципальную программу «Развитие культуры на территории Новомихайловского сельсовета на 2023 – 2027 годы», утвержденную Постановлением Администрации Новомихайловского сельсовета от 15.11.2022 года № 56
A20: В соответствии со статьей 16 Федерального закона от 06.10.2003 года № 131-ФЗ «Об общих принципах местного самоуправления в Российской Федерации», статьей 179 Бюджетного кодекса Российской Федерации, статьей 9 Устава муниципального образования Новомихайловский сельсовет, администрация Новомихайловского сельсовета
A26: ПОСТАНОВЛЯЕТ:
A28: 1. Внести следующие изменения в муниципальную программу «Развитие культуры на территории Новомихайловского сельсовета на 2023 – 2027 годы», утвержденную Постановлением Администрации Новомихайловского сельсовета от 15.11.2022 года № 56:
D33: 1.1. В паспорте Программы строку «Объемы и источники финансирования Программы» изложить в новой редакции:
A37: Объемы и источники финансирования | AB37: Общий объем финансирования Программы
AB38: составляет | AH38: =SUM(AK40:AN44) -> 8370.5 | AN38: тыс. рублей. В том
AB39: числе по годам:
AD40: - | AE40: 2023 год | AJ40: - | AK40: =SUM(Приложение!U32,Приложение!AO32,Приложение!BI32) -> 2587.4 | AO40: тыс. рублей;
AD41: - | AE41: 2024 год | AJ41: - | AK41: =SUM(Приложение!Y32,Приложение!AS32,Приложение!BM32) -> 2285.4 | AO41: тыс. рублей;
AD42: - | AE42: 2025 год | AJ42: - | AK42: =SUM(Приложение!AC32,Приложение!AW32,Приложение!BQ32) -> 1960.4 | AO42: тыс. рублей;
AD43: - | AE43: 2026 год | AJ43: - | AK43: =SUM(Приложение!AG32,Приложение!BA32,Приложение!BU32) -> 1487.3 | AO43: тыс. рублей;
AD44: - | AE44: 2027 год | AJ44: - | AK44: =SUM(Приложение!AK32,Приложение!BE32,Приложение!BY32) -> 50 | AO44: тыс. рублей.
AB46: - | AC46: за счет средств бюджета поселения -
AB47: =SUM(AK49:AN53) -> 7915.8 | AG47: тыс. рублей, в том числе по
AB48: годам:
AD49: - | AE49: 2023 год | AJ49: - | AK49: =SUM(Приложение!U32) -> 2568.4 | AO49: тыс. рублей;
AD50: - | AE50: 2024 год | AJ50: - | AK50: =SUM(Приложение!Y32) -> 1877.7 | AO50: тыс. рублей;
AD51: - | AE51: 2025 год | AJ51: - | AK51: =SUM(Приложение!AC32) -> 1932.4 | AO51: тыс. рублей;
AD52: - | AE52: 2026 год | AJ52: - | AK52: =SUM(Приложение!AG32) -> 1487.3 | AO52: тыс. рублей;
AD53: - | AE53: 2027 год | AJ53: - | AK53: =SUM(Приложение!AK32) -> 50 | AO53: тыс. рублей.
AB55: - | AC55: за счет средств бюджета МО Алтайский
AB56: район - | AF56: =SUM(AK58:AN62) -> 454.7 | AK56: тыс. рублей, в том числе
AB57: по годам:
AD58: - | AE58: 2023 год | AJ58: - | AK58: =SUM(Приложение!AO32) -> 19 | AO58: тыс. рублей;
AD59: - | AE59: 2024 год | AJ59: - | AK59: =SUM(Приложение!AS32) -> 407.7 | AO59: тыс. рублей;
AD60: - | AE60: 2025 год | AJ60: - | AK60: =SUM(Приложение!AW32) -> 28 | AO60: тыс. рублей;
AD61: - | AE61: 2026 год | AJ61: - | AK61: =SUM(Приложение!BA32) -> 0 | AO61: тыс. рублей;
AD62: - | AE62: 2027 год | AJ62: - | AK62: =SUM(Приложение!BE32) -> 0 | AO62: тыс. рублей.
AB64: - | AC64: за счет средств бюджета Республики
AB65: Хакасия | AG65: - | AH65: =SUM(AK67:AN71) -> 0 | AM65: тыс. рублей, в том
AB66: числе по годам:
AD67: - | AE67: 2023 год | AJ67: - | AK67: =SUM(Приложение!BI32) -> 0 | AO67: тыс. рублей;
AD68: - | AE68: 2024 год | AJ68: - | AK68: =SUM(Приложение!BM32) -> 0 | AO68: тыс. рублей;
AD69: - | AE69: 2025 год | AJ69: - | AK69: =SUM(Приложение!BQ32) -> 0 | AO69: тыс. рублей;
AD70: - | AE70: 2026 год | AJ70: - | AK70: =SUM(Приложение!BU32) -> 0 | AO70: тыс. рублей;
AD71: - | AE71: 2027 год | AJ71: - | AK71: =SUM(Приложение!BY32) -> 0 | AO71: тыс. рублей.
D73: 1.2. Раздел «3. Перечень программных мероприятий» изложить в новой редакции, согласно приложения.
D77: 1.3. Раздел «4. Обоснование ресурсного обеспечения» изложить в новой редакции:
D78: Бюджетные ассигнования, пердусмотренные в плановом периоде 2023 - 2027 годов, могут быть уточнены при формировании бюжета Новомихайловского сельсовета.
D81: Общий объем финансирования Программы составляет | AG81: =SUM(K83:N87) -> 8370.5 | AL81: тыс. рублей, в том числе
D82: по годам:
D83: - | E83: 2023 год | J83: - | K83: =SUM(AK40) -> 2587.4 | O83: тыс. рублей;
D84: - | E84: 2024 год | J84: - | K84: =SUM(AK41) -> 2285.4 | O84: тыс. рублей;
D85: - | E85: 2025 год | J85: - | K85: =SUM(AK42) -> 1960.4 | O85: тыс. рублей;
D86: - | E86: 2026 год | J86: - | K86: =SUM(AK43) -> 1487.3 | O86: тыс. рублей;
D87: - | E87: 2027 год | J87: - | K87: =SUM(AK44) -> 50 | O87: тыс. рублей.
D89: - | E89: за счет средств бюджета поселения | X89: =SUM(K90:N94) -> 7915.8 | AC89: тыс. рублей, в том числе по годам:
D90: - | E90: 2023 год | J90: - | K90: =SUM(AK49) -> 2568.4 | O90: тыс. рублей;
D91: - | E91: 2024 год | J91: - | K91: =SUM(AK50) -> 1877.7 | O91: тыс. рублей;
D92: - | E92: 2025 год | J92: - | K92: =SUM(AK51) -> 1932.4 | O92: тыс. рублей;
D93: - | E93: 2026 год | J93: - | K93: =SUM(AK52) -> 1487.3 | O93: тыс. рублей;
D94: - | E94: 2027 год | J94: - | K94: =SUM(AK53) -> 50 | O94: тыс. рублей.
D96: - | E96: за счет средств бюджета МО Алтайский район | AD96: =SUM(K98:N102) -> 454.7 | AI96: тыс. рублей, в том числе по
D97: годам:
D98: - | E98: 2023 год | J98: - | K98: =SUM(AK58) -> 19 | O98: тыс. рублей;
D99: - | E99: 2024 год | J99: - | K99: =SUM(AK59) -> 407.7 | O99: тыс. рублей;
D100: - | E100: 2025 год | J100: - | K100: =SUM(AK60) -> 28 | O100: тыс. рублей;
D101: - | E101: 2026 год | J101: - | K101: =SUM(AK61) -> 0 | O101: тыс. рублей;
D102: - | E102: 2027 год | J102: - | K102: =SUM(AK62) -> 0 | O102: тыс. рублей.
D104: - | E104: за счет средств бюджета Республики Хакасия | AD104: =SUM(K106:N110) -> 0 | AI104: тыс. рублей, в том числе по
D105: годам:
D106: - | E106: 2023 год | J106: - | K106: =SUM(AK67) -> 0 | O106: тыс. рублей;
D107: - | E107: 2024 год | J107: - | K107: =SUM(AK68) -> 0 | O107: тыс. рублей;
D108: - | E108: 2025 год | J108: - | K108: =SUM(AK69) -> 0 | O108: тыс. рублей;
D109: - | E109: 2026 год | J109: - | K109: =SUM(AK70) -> 0 | O109: тыс. рублей;
D110: - | E110: 2027 год | J110: - | K110: =SUM(AK71) -> 0 | O110: тыс. рублей.
A112: 2. Настоящее постановление подлежит официальному опубликованию (обнародованию).
A114: 3. Контроль исполнения настоящего постановления оставляю за собой.
A117: Врио главы Новомихайловского сельсовета | AP117: В. И. Брова

Sheet Приложение
BB1: Приложение к постановлению администрации
BB2: Новомихайловского сельсовета от | BY2: « | BZ2: 28 | CB2: »
BB3: июня | BG3: 2024 | BK3: года | BN3: № | BP3: 57
A5: 3. Перечень программных мероприятий
A7: Система программных мероприятий, сформированная в соответствии с изложенными целями и основными задачами:
A9: № п/п | D9: Наименование мероприятия | Q9: Сумма | U9: Источники финансирования
U10: Бюджет поселения | AO10: Бюджет МО Алтайский район | BI10: Бюджет Республики Хакасия
U11: 2023 | Y11: 2024 | AC11: 2025 | AG11: 2026 | AK11: 2027 | AO11: 2023 | AS11: 2024 | AW11: 2025 | BA11: 2026 | BE11: 2027 | BI11: 2023 | BM11: 2024 | BQ11: 2025 | BU11: 2026 | BY11: 2027
A12: 1 | D12: Проведение календарных праздников и мероприятий | Q12: =SUM(U12:CB13) -> 100 | U12: 20 | Y12: 20 | AC12: 20 | AG12: 20 | AK12: 20
A14: 2 | D14: Субсидии на предоставление услуг культурного досуга | Q14: =SUM(U14:CB16) -> 8124.8 | U14: 2538.4 | Y14: 1857.7 | AC14: 1806.7 | AG14: 1467.3 | AO14: 19 | AS14: 407.7 | AW14: 28
A17: 3 | D17: Укрепление материально-технической базы | Q17: =SUM(U17:CB18) -> 10 | AK17: 10
A19: 4 | D19: Капитальный ремонт здания МБУК Новомихайловский СДК | Q19: =SUM(U19:CB21) -> 105.7 | AC19: 105.7
A22: 5 | D22: Пошив сценических костюмов | Q22: =SUM(U22:CB26) -> 20 | AK22: 20
A27: 6 | D27: Обустройство зала истории "Живая нить" | Q27: =SUM(U27:CB31) -> 10 | U27: 10
A32: ИТОГО: | Q32: =SUM(U32:CB32) -> 8370.5 | U32: =SUM(U12:X31) -> 2568.4 | Y32: =SUM(Y12:AB31) -> 1877.7 | AC32: =SUM(AC12:AF31) -> 1932.4 | AG32: =SUM(AG12:AJ31) -> 1487.3 | AK32: =SUM(AK12:AN31) -> 50 | AO32: =SUM(AO12:AR31) -> 19 | AS32: =SUM(AS12:AV31) -> 407.7 | AW32: =SUM(AW12:AZ31) -> 28 | BA32: =SUM(BA12:BD31) -> 0 | BE32: =SUM(BE12:BH31) -> 0 | BI32: =SUM(BI12:BL31) -> 0 | BM32: =SUM(BM12:BP31) -> 0 | BQ32: =SUM(BQ12:BT31) -> 0 | BU32: =SUM(BU12:BX31) -> 0 | BY32: =SUM(BY12:CB31) -> 0
