Workbook

Sheet Постановление
A1: Российская Федерация
A2: Республика Хакасия
A3: Алтайский район
A4: Администрация Новомихайловского сельсовета
A6: ПОСТАНОВЛЕНИЕ
A8: « | B8: 08 | D8: » | E8: июля | J8: 2024 | M8: год | AU8: № | AW8: 62
T10: с. Новомихайловка
A12: О внесении изменений в муниципальную программу «Пожарная безопасность на территории Новомихайловского сельсовета на 2021 – 2025 годы», утвержденную Постановлением Администрации Новомихайловского сельсовета от 10.07.2020 года № 59
A21: В соответствии со статьей 16 Федерального закона от 06.10.2003 года № 131-ФЗ «Об общих принципах местного самоуправления в Российской Федерации», с Федеральным законом от 21.12.1994 года № 69-ФЗ «О пожарной безопасности», руководствуясь Бюджетным кодексом Российской Федерации, Уставом муниципального образования Новомихайловский сельсовет, администрация Новомихайловского сельсовета
A28: ПОСТАНОВЛЯЕТ:
A30: 1. Внести следующие изменения в муниципальную программу «Пожарная безопасность на территории Новомихайловского сельсовета на2021-2025 годы», утвержденную Постановлением Администрации Новомихайловского сельсовета от 10.07.2020 года № 59:
D35: 1.1. В паспорте Программы строку «Объемы и источники финансирования Программы» изложить в новой редакции:
A39: Объемы и источники финансирования | AB39: Общий объем финансирования Программы
AB40: составляет | AH40: =SUM(AH67,AF58,AB49) -> 7185.8 | AN40: тыс. рублей. В том
AB41: числе по годам:
AD42: - | AE42: 2021 год | AJ42: - | AK42: =SUM(Приложение!D20,Приложение!I20,Приложение!N20) -> 960.5 | AO42: тыс. рублей;
AD43: - | AE43: 2022 год | AJ43: - | AK43: =SUM(Приложение!E20,Приложение!J20,Приложение!O20) -> 1003.8 | AO43: тыс. рублей;
AD44: - | AE44: 2023 год | AJ44: - | AK44: =SUM(Приложение!F20,Приложение!K20,Приложение!P20) -> 1285.3 | AO44: тыс. рублей;
AD45: - | AE45: 2024 год | AJ45: - | AK45: =SUM(Приложение!G20,Приложение!P20) -> 1790.3 | AO45: тыс. рублей;
AD46: - | AE46: 2025 год | AJ46: - | AK46: =SUM(Приложение!H20,Приложение!M20,Приложение!R20) -> 2074.4 | AO46: тыс. рублей.
AB48: - | AC48: за счет средств бюджета поселения -
AB49: =SUM(AK51:AO55) -> 6098.3 | AG49: тыс. рублей, в том числе по
AB50: годам:
AD51: - | AE51: 2021 год | AJ51: - | AK51: =SUM(Приложение!D20) -> 766.5 | AO51: тыс. рублей;
AD52: - | AE52: 2022 год | AJ52: - | AK52: =SUM(Приложение!E20) -> 830.8 | AO52: тыс. рублей;
AD53: - | AE53: 2023 год | AJ53: - | AK53: =SUM(Приложение!F20) -> 1041.3 | AO53: тыс. рублей;
AD54: - | AE54: 2024 год | AJ54: - | AK54: =SUM(Приложение!G20) -> 1546.3 | AO54: тыс. рублей;
AD55: - | AE55: 2025 год | AJ55: - | AK55: =SUM(Приложение!H20) -> 1913.4 | AO55: тыс. рублей.
AB57: - | AC57: за счет средств бюджета МО Алтайский
AB58: район - | AF58: =SUM(AK60:AN64) -> 0 | AK58: тыс. рублей, в том числе
AB59: по годам:
AD60: - | AE60: 2021 год | AJ60: - | AK60: =SUM(Приложение!I20) -> 0 | AO60: тыс. рублей;
AD61: - | AE61: 2022 год | AJ61: - | AK61: =SUM(Приложение!J20) -> 0 | AO61: тыс. рублей;
AD62: - | AE62: 2023 год | AJ62: - | AK62: =SUM(Приложение!K20) -> 0 | AO62: тыс. рублей;
AD63: - | AE63: 2024 год | AJ63: - | AK63: =SUM(Приложение!L20) -> 0 | AO63: тыс. рублей;
AD64: - | AE64: 2025 год | AJ64: - | AK64: =SUM(Приложение!M20) -> 0 | AO64: тыс. рублей.
AB66: - | AC66: за счет средств бюджета Республики
AB67: Хакасия | AG67: - | AH67: =SUM(AK69:AN73) -> 1087.5 | AM67: тыс. рублей, в том
AB68: числе по годам:
AD69: - | AE69: 2021 год | AJ69: - | AK69: =SUM(Приложение!N20) -> 194 | AO69: тыс. рублей;
AD70: - | AE70: 2022 год | AJ70: - | AK70: =SUM(Приложение!O20) -> 173 | AO70: тыс. рублей;
AD71: - | AE71: 2023 год | AJ71: - | AK71: =SUM(Приложение!P20) -> 244 | AO71: тыс. рублей;
AD72: - | AE72: 2024 год | AJ72: - | AK72: =SUM(Приложение!Q20) -> 315.5 | AO72: тыс. рублей;
AD73: - | AE73: 2025 год | AJ73: - | AK73: =SUM(Приложение!R20) -> 161 | AO73: тыс. рублей.
D75: 1.2. Раздел «3. Мероприятия по реализации Программы» изложить в новой редакции, согласно приложения.
A79: 2. Настоящее постановление подлежит официальному опубликованию (обнародованию).
A81: 3. Контроль исполнения настоящего постановления оставляю за собой.
A84: Врио главы Новомихайловского сельсовета | AP84: В. И. Брова

Sheet Приложение
J2: Приложение к постановлению Администрации Новомихайловского сельсовета от 08.07.2024 года № 62
A3: 3. Перечень программных мероприятий
A4: Основу финансирования Программы составляют средства бюджета муниципального образования Новомихайловский сельсовет. Механизм реализации Программы заключается в осуществлении мероприятий:
A5: № п/п | B5: Наименование мероприятия | D5: Источники финансирования
D6: Бюджет поселения | I6: Бюджет Алтайского района | N6: Бюджет Республики Хакасия
D7: 2021 | E7: 2022 | F7: 2023 | G7: 2024 | H7: 2025 | I7: 2021 | J7: 2022 | K7: 2023 | L7: 2024 | M7: 2025 | N7: 2021 | O7: 2022 | P7: 2023 | Q7: 2024 | R7: 2025
A10: 1 | B10: Обеспечение первичных мер пожарной безопасности (создание защитных сооружений, препятствующих распространению палов травы (минерализированные полосы), обучение населения мерам ПБ) | D10: 10 | E10: 10 | F10: 306 | G10: 2 | H10: 5 | N10: 22 | O10: 22 | P10: 37 | Q10: 36 | R10: 22
A11: 2 | B11: Содержание сил по обеспечению ПБ | D11: 674.6 | E11: 715.8 | F11: 651 | G11: 1449 | H11: 1501.4
A12: 3 | B12: Приобретение основных средств, ГСМ, материалов, материально-технических средств, противопожарного инвентаря | D12: 57 | E12: 73 | F12: 60.4 | G12: 66.9 | H12: 74
A13: 4 | B13: Приобретение генератора (дизельной электростанции) мощностью 7,5 квт, 380 вт на случай отсутствия электроэнергии для заправки пожарной машины водой из противопожарной скважины | H13: 300
A14: 5 | B14: Поддержка подразделения добровольной пожарной охраны | D14: 10 | E14: 2 | F14: 7 | G14: 8.4 | H14: 3 | N14: 172 | O14: 151 | P14: 207 | Q14: 279.5 | R14: 139
A15: 6 | B15: Приобретение и установка светооражающих указателей для определения мест нахождения пожарных водоисточников | D15: 1
A16: 7 | B16: Оформление ТС (страхование,гос.регистрация ТС), Оформление гаража для пожарного автомобиля | D16: 13.9 | E16: 30 | F16: 16.9 | G16: 20 | H16: 20
A17: 8 | B17: Ревизия и ремонт источников наружного противопожарного водоснабжения | H17: 10
A18: 9 | B18: Обустройство и содержание подъездов к местам для забора воды пожарной техники | D18: Без финансирования | E18: Без финансирования | F18: Без финансирования | G18: Без финансирования | H18: Без финансирования
A19: 10 | B19: Издание памяток для населения о мерах пожарной безопасности и периодическое информирование через проводимые собрания граждан, через встречи с депутатами. Обучение населения по гражданской обороне действиям при ЧС и правилам ПБ | D19: Без финансирования | E19: Без финансирования | F19: Без финансирования | G19: Без финансирования | H19: Без финансирования
A20: ИТОГО: | C20: =SUM(D20:R20) -> 7185.8 | D20: =SUM(D10:D19) -> 766.5 | E20: =SUM(E10:E19) -> 830.8 | F20: =SUM(F10:F19) -> 1041.3 | G20: =SUM(G10:G19) -> 1546.3 | H20: =SUM(H10:H18) -> 1913.4 | I20: =SUM(I10:I18) -> 0 | J20: =SUM(J10:J18) -> 0 | K20: =SUM(K10:K18) -> 0 | L20: =SUM(L10:L18) -> 0 | M20: =SUM(M10:M18) -> 0 | N20: =SUM(N10:N18) -> 194 | O20: =SUM(O10:O18) -> 173 | ... R20: =SUM(R10:R18) -> 161
